BEGIN:VCALENDAR
VERSION:2.0
PRODID:http://www.egotec.com/
METHOD:PUBLISH
BEGIN:VTIMEZONE
X-LIC-LOCATION:Europe/Berlin
TZID:Europe/Berlin
END:VTIMEZONE
BEGIN:VEVENT
CREATED:20260413T100649Z
SUMMARY:Spring Party
DTSTART:20260423T200000Z
DTEND:20260423T214500Z
LOCATION:Villa am Paradies, Knebelstr. 3, Jena
DESCRIPTION:Spring Party\n\nSemesteranfangsparty WiWi, organisiert vom Förderverein der Fachschaft WiWi Jena e.V. und p:act – Projekt Assessment Center Training Jena e. V.\n\nhttps://www.wiwi.uni-jena.de/27885/spring-party
END:VEVENT
END:VCALENDAR
